BEGIN:VCALENDAR
VERSION:2.0
PRODID:-//Binmak - ECPv6.7.0//NONSGML v1.0//EN
CALSCALE:GREGORIAN
METHOD:PUBLISH
X-WR-CALNAME:Binmak
X-ORIGINAL-URL:https://www.binmak.net
X-WR-CALDESC:Events for Binmak
REFRESH-INTERVAL;VALUE=DURATION:PT1H
X-Robots-Tag:noindex
X-PUBLISHED-TTL:PT1H
BEGIN:VTIMEZONE
TZID:UTC
BEGIN:STANDARD
TZOFFSETFROM:+0000
TZOFFSETTO:+0000
TZNAME:UTC
DTSTART:20240101T000000
END:STANDARD
END:VTIMEZONE
BEGIN:VEVENT
DTSTART;TZID=UTC:20240325T090000
DTEND;TZID=UTC:20240325T090000
DTSTAMP:20260421T154053
CREATED:20200812T230810Z
LAST-MODIFIED:20250729T091830Z
UID:5221-1711357200-1711357200@www.binmak.net
SUMMARY:Asset Strategies & Plans Development
DESCRIPTION:Asset Strategies & Plans Development\nCriticality Analysis |Tactic Selection|Asset Value Realisation\n			\n				\n				\n				\n				\n				[addtoany]\nbrochure \nBuy Now\n\n			\n				\n				\n				\n				\n				\n					\n					\n						Course Horizon\n						Asset Strategies and Plans Development course entails the process of employing a risk-based approach in selecting appropriate tools for building asset management plans (AMPs) in order to realise maximum asset value.\n					\n				\n			\n				\n				\n				\n				\n				\n			\n				\n				\n				\n				\n				\n					\n					\n						Why you should attend?\n						\nCriticality modelling on building AMPs ensures effective allocation of time and resources in management of assets since focus is put on critical assets\nRisk-based approach in defining asset criticality ensures mitigation of asset potential failures and risk hence loss elimination in production\nTactical maintenance ensures improved reliability and uptime\, less breakdowns resulting in cost reduction\n\n					\n				\n			\n				\n				\n				\n				\n				\n					\n					\n						Learning Objectives\n						By the end of this course\, participants should be able to:\n\nAppreciate the fundamentals of Asset Management and its transformation in modern day\nIdentify the principles of developing asset management plans\nSelect appropriate maintenance tactics on assets\nDevelop a criticality model and conduct a criticality analysis on assets\nExplain failure modes and effects analysis on assets\nDescribe the link between asset management plans and work planning and control\nDescribe the difference between condition-based\, usage-based and run-to-failure tactics\nDefend asset management plan decisions in an AMP simulation game\n\n					\n				\n			\n				\n				\n				\n				\n				\n					\n					\n						Course Content\n						\nFundamentals of Asset Management\nChanging World of Asset Management\nCriticality Analysis\nFunctional Analysis\nFailure Analysis\nFailure Mode & Effects Analysis (FMEA)\nTactic Selection Course Content\nCondition-Based Maintenance\nAMP Detailed Development\nAMP Implementation\nAMP Execution\nAMP Case Study\nAMP Tool Overview\n\n					\n				\n			\n			\n				\n				\n				\n				\n				\n				\n				\n				\n				\n				\n			\n				\n				\n				\n				\n				\n					\n					\n						Who will benefit?\n						\nExecutives and Senior Managers of Asset Intensive Businesses\nProduction and Operations Managers\nAsset and Maintenance Managers\nProject Managers/Engineers\nRisk Managers\nMaintenance and Production Engineers\nSupervisors\nPlanners\nEngineering Technicians\n\n					\n				\n			\n				\n				\n				\n				\n				\n					\n					\n						Delivery Platform\n						\nPublic Training – available at in all cities and towns\nOnsite Training\nVirtual Instructor-Led Training\nE-Learning\nCustomized Training\n\n					\n				\n			\n				\n				\n				\n				\n				\n					\n					\n						Training Duration\n						\nDelivery – 3 days\n\n					\n				\n			\n			\n				\n				\n				\n				\n			\n				\n				\n				\n				\n				\n				\n				\n				\n				\n				\n				\n					\n					\n						Main Elements\n						Delivery\n\nThe 3-day session equips individuals with knowledge and skills to bring a high degree of competency\nSelf-assessment quizzes and interactive group discussions on each learning area foster great understanding\nInteractive group sessions and illustrative videos will be delivered to enhance content comprehension\n\n					\n				\n			\n			\n				\n				\n				\n				\n				\n				\n				\n				\n				\n				\n					\n					\n						\n						\n\n\n\n\n\n\n\n\nTechniques\nParticipants shall tackle practical exercises on: \n\nAsset Criticality modelling\nSegregating systems into numerous levels of assets and components\nAnalysing failure modes and maintenance tactic selection\nTools: FMEA worksheet\nAMP detailed development
URL:https://www.binmak.net/event/asset-strategies-plans-development/
CATEGORIES:Asset Management
ATTACH;FMTTYPE=image/png:https://www.binmak.net/wp-content/uploads/2020/07/projectManage.png
ORGANIZER;CN="Shephered Chimvere":MAILTO:learning@binmak.com
END:VEVENT
END:VCALENDAR