BEGIN:VCALENDAR
VERSION:2.0
PRODID:-//Binmak - ECPv6.7.0//NONSGML v1.0//EN
CALSCALE:GREGORIAN
METHOD:PUBLISH
X-WR-CALNAME:Binmak
X-ORIGINAL-URL:https://www.binmak.net
X-WR-CALDESC:Events for Binmak
REFRESH-INTERVAL;VALUE=DURATION:PT1H
X-Robots-Tag:noindex
X-PUBLISHED-TTL:PT1H
BEGIN:VTIMEZONE
TZID:UTC
BEGIN:STANDARD
TZOFFSETFROM:+0000
TZOFFSETTO:+0000
TZNAME:UTC
DTSTART:20240101T000000
END:STANDARD
END:VTIMEZONE
BEGIN:VEVENT
DTSTART;TZID=UTC:20240603T090000
DTEND;TZID=UTC:20240603T090000
DTSTAMP:20260419T200245
CREATED:20200812T033612Z
LAST-MODIFIED:20231212T135210Z
UID:5130-1717405200-1717405200@www.binmak.net
SUMMARY:ISO 55000 Overview
DESCRIPTION:ISO 55000 Overview\nAsset Value Realisation|Productivity| Risk Mitigation\n			\n				\n				\n				\n				\n				[addtoany]\nbrochure \nBuy Now\n\n			\n				\n				\n				\n				\n				\n					\n					\n						Course Horizon\n						ISO 55000 Overview course delivers a detailed content of the elements of the standard\, offers guidance regarding how organisations can establish compliance with each component\, and discusses the practicalities of implementing robust Asset Management practices and processes within an organisation. \n					\n				\n			\n				\n				\n				\n				\n				\n			\n				\n				\n				\n				\n				\n					\n					\n						Learning Objectives\n						By the end of this course\, participants should be able to:\n\nDescribe the structure and intent of the ISO 55000 series of standards\nDescribe the key elements of an ISO 55001 compliant asset management system\nUnderstand how their organisation can demonstrate compliance with the requirements of ISO 55001\nUnderstand how best to implement improved Asset Management processes and systems within their organisation\nUnderstand the ISO 55001 certification process and how to seek certification\n\n					\n				\n			\n				\n				\n				\n				\n				\n					\n					\n						Course Content\n						\nIntroduction to Asset Management\nWhy Physical Asset Management?\nGoal of Asset Management\nOverview of the Standard ISO 55000\, ISO 55001 and ISO 55002\nAssessment and Implementing Improved Asset Management Processes that align with ISO 55001 Requirements\n\n					\n				\n			\n			\n				\n				\n				\n				\n				\n				\n				\n				\n				\n				\n			\n				\n				\n				\n				\n				\n					\n					\n						Who should attend?\n						\nExecutives and Senior Managers of Asset Intensive Businesses\nProduction and Operations Managers\nAsset and MaintenanceManagers\nProject Managers/Engineers\nMaintenance and Production Engineers\nForemen/Supervisors\nPlanners\nEngineering Technicians\n\n					\n				\n			\n				\n				\n				\n				\n				\n					\n					\n						Delivery Platform\n						\nPublic Training –available at in all cities and towns\nOnsite Training\nVirtual Instructor-Led Training\nE-Learning\nCustomized Training\n\n					\n				\n			\n				\n				\n				\n				\n				\n					\n					\n						Training Duration\n						Delivery –1 day\n					\n				\n			\n			\n				\n				\n				\n				\n			\n				\n				\n				\n				\n				\n				\n				\n				\n				\n				\n				\n					\n					\n						Main Elements\n						Delivery\n\nThe 1-day session equips with knowledge and skills to bring competency\nSelf-assessment quizzes and interactive group discussions on each learning area foster great understanding\nInteractive group sessions and illustrative videos will be delivered to enhance content comprehension\n\n					\n				\n			\n				\n				\n				\n				\n				\n					\n					\n						\n						\n					\n				\n			\n			\n				\n				\n				\n				\n				\n				\n				\n				\n				\n				\n					\n					\n						\n						\n\n\n\n\n\n\n\n\nTechniques\nParticipants shall tackle practical exercises on: \n\nUnderstanding Best Practises (BP) Maturity\nUnderstanding Key Performance Indicators (KPI) Maturity\nOverall Asset Management Maturity Assessment
URL:https://www.binmak.net/event/iso-55000-overview/
CATEGORIES:Asset Management,Business Performance Improvement
ATTACH;FMTTYPE=image/png:https://www.binmak.net/wp-content/uploads/2020/07/projectManage.png
ORGANIZER;CN="Shephered Chimvere":MAILTO:learning@binmak.com
END:VEVENT
END:VCALENDAR