BEGIN:VCALENDAR
VERSION:2.0
PRODID:-//Binmak - ECPv6.7.0//NONSGML v1.0//EN
CALSCALE:GREGORIAN
METHOD:PUBLISH
X-ORIGINAL-URL:https://www.binmak.net
X-WR-CALDESC:Events for Binmak
REFRESH-INTERVAL;VALUE=DURATION:PT1H
X-Robots-Tag:noindex
X-PUBLISHED-TTL:PT1H
BEGIN:VTIMEZONE
TZID:UTC
BEGIN:STANDARD
TZOFFSETFROM:+0000
TZOFFSETTO:+0000
TZNAME:UTC
DTSTART:20240101T000000
END:STANDARD
END:VTIMEZONE
BEGIN:VEVENT
DTSTART;TZID=UTC:20240415T090000
DTEND;TZID=UTC:20240415T090000
DTSTAMP:20260419T230803
CREATED:20200813T000333Z
LAST-MODIFIED:20231212T130247Z
UID:5234-1713171600-1713171600@www.binmak.net
SUMMARY:Introduction to Production Flow Optimisation
DESCRIPTION:Introduction to Production Flow Optimisation\n			\n				\n				\n				\n				\n				[addtoany]\nbrochure \n\n\n			\n				\n				\n				\n				\n				\n					\n					\n						Course Horizon\n						This course concentrates on providing the best understanding on all aspects used in Theory of Constraints (TOC) approach starting from the fundamentals up to the parameters used in overall production flow optimisation. \nProduction flow modelling\, optimisation and simulation techniques taught in this course ensure effective examination and analysis of production systems for decision-making. Attendees will also gain valuable knowledge and practical application of business performance improvement tools in order to increase production and improve overall field efficiency. \nMaximising production throughput: TOC Methodology \n					\n				\n			\n				\n				\n				\n				\n				\n			\n				\n				\n				\n				\n				\n					\n					\n						Learning Objectives\n						By the end of this course\, participants shall have:\n\nLearnt how to apply the DMAIC cycle in improving\, optimising and stabilising business processes and designs\nMastered key performance indicators used to measure and analyse operational business performance\nComprehended the Theory of Constraints “Thinking Process”\, its goal and benefits\nUnderstood how to apply the Theory of Constraints method to operational control whilst focussed on profit improvement\nGained the ability to compare profitability between balanced capacity and optimised flow as a means to apply right operational design to achieve lowest cost of production per unit\n\n					\n				\n			\n				\n				\n				\n				\n				\n					\n					\n						Course Content\n						\nBusiness Performance Improvement\nPerformance Monitoring and Evaluation\nTheory of Constraints approach to operational control\nLocal Efficiencies\nProduction Flow Chain\nFocus Room Facilitation\n\n					\n				\n			\n			\n				\n				\n				\n				\n				\n				\n				\n				\n				\n				\n			\n				\n				\n				\n				\n				\n					\n					\n						Who should attend?\n						\nExecutives and Senior Managers of Asset Intensive Businesses\nProduction and Operations Managers\nAsset and Maintenance Managers\nProject Managers/Engineers\nMaintenance and Production Engineers\nSupervisors\nPlanners\n\n					\n				\n			\n				\n				\n				\n				\n				\n					\n					\n						Delivery Platform\n						\nPublic Training –available at in all cities and towns\nOnsite Training\nVirtual Instructor-Led Training\nE-Learning\nCustomized Training\n\n					\n				\n			\n				\n				\n				\n				\n				\n					\n					\n						Training Duration\n						\nDelivery – 2 days\n\n					\n				\n			\n			\n				\n				\n				\n				\n			\n				\n				\n				\n				\n				\n				\n				\n				\n				\n				\n				\n					\n					\n						Main Elements\n						Delivery\n\nThe 2-day session equips with knowledge and skills to bring competency\nSelf-assessment quizzes and interactive group discussions on each learning area foster great understanding\nInteractive group sessions and illustrative videos will be delivered to enhance content comprehension\n\n					\n				\n			\n			\n				\n				\n				\n				\n				\n				\n				\n				\n				\n				\n					\n					\n						\n						\n\n\n\n\n\n\n\nTechniques\nParticipants shall tackle practical exercises on: \n\nApplying DMAIC tool to improve business performance\nEmploying Theory of Constraints methodology in addressing production flow bottlenecks\nProduction throughput comparison for balanced capacity and optimised production flow
URL:https://www.binmak.net/event/introduction-to-production-flow-optimisation/
CATEGORIES:Asset Management,Business Performance Improvement
ATTACH;FMTTYPE=image/png:https://www.binmak.net/wp-content/uploads/2020/07/projectManage.png
ORGANIZER;CN="Tawanda Mugombi":MAILTO:learning@binmak.com
END:VEVENT
END:VCALENDAR